BEGIN:VCALENDAR
VERSION:2.0
PRODID:-//Prophetic Ireland Ministries - ECPv6.15.20//NONSGML v1.0//EN
CALSCALE:GREGORIAN
METHOD:PUBLISH
X-ORIGINAL-URL:https://propheticireland.com
X-WR-CALDESC:Events for Prophetic Ireland Ministries
REFRESH-INTERVAL;VALUE=DURATION:PT1H
X-Robots-Tag:noindex
X-PUBLISHED-TTL:PT1H
BEGIN:VTIMEZONE
TZID:Europe/London
BEGIN:DAYLIGHT
TZOFFSETFROM:+0000
TZOFFSETTO:+0100
TZNAME:BST
DTSTART:20210328T010000
END:DAYLIGHT
BEGIN:STANDARD
TZOFFSETFROM:+0100
TZOFFSETTO:+0000
TZNAME:GMT
DTSTART:20211031T010000
END:STANDARD
BEGIN:DAYLIGHT
TZOFFSETFROM:+0000
TZOFFSETTO:+0100
TZNAME:BST
DTSTART:20220327T010000
END:DAYLIGHT
BEGIN:STANDARD
TZOFFSETFROM:+0100
TZOFFSETTO:+0000
TZNAME:GMT
DTSTART:20221030T010000
END:STANDARD
BEGIN:DAYLIGHT
TZOFFSETFROM:+0000
TZOFFSETTO:+0100
TZNAME:BST
DTSTART:20230326T010000
END:DAYLIGHT
BEGIN:STANDARD
TZOFFSETFROM:+0100
TZOFFSETTO:+0000
TZNAME:GMT
DTSTART:20231029T010000
END:STANDARD
END:VTIMEZONE
BEGIN:VEVENT
DTSTART;TZID=Europe/London:20220730T130000
DTEND;TZID=Europe/London:20220730T190000
DTSTAMP:20260425T205858
CREATED:20220703T143721Z
LAST-MODIFIED:20220703T143829Z
UID:351-1659186000-1659207600@propheticireland.com
SUMMARY:Day of Worship
DESCRIPTION:
URL:https://propheticireland.com/event/day-of-worship/
LOCATION:Glenvarna Christian Centre\, 34a Ballynure Road\, Newtownabbey\, Antrim\, BT36 5SW\, United Kingdom
ATTACH;FMTTYPE=image/jpeg:https://propheticireland.com/wp-content/uploads/2022/07/AAB18405-9994-4396-9C29-9CCEB140E8A3.jpeg
END:VEVENT
END:VCALENDAR